View In:
ArcGIS JavaScript
ArcGIS Online Map Viewer
ArcGIS Earth
ArcMap
ArcGIS Pro
View Footprint In:
ArcGIS Online Map Viewer
Service Description: This service displays inland water features of interest to most Queensland Globe users. They are aimed at informing the user if a lake, reservoir, canal, watercourse, dam, rockpool or rockhole, waterhole, waterfall, flat, swamp or pondage area is present at their location of interest. The information display at relevant scale levels from the extent of Queensland through to land parcel level.
Map Name: WatercoursesAndBodiesCache
Legend
All Layers and Tables
Dynamic Legend
Dynamic All Layers
Layers:
Description: This service displays inland water features of interest to most Queensland Globe users. They are aimed at informing the user if a lake, reservoir, canal, watercourse, dam, rockpool or rockhole, waterhole, waterfall, flat, swamp or pondage area is present at their location of interest. The information display at relevant scale levels from the extent of Queensland through to land parcel level.
Service Item Id: 23430966aedc430abfdd6f1850044408
Copyright Text: © State of Queensland (Department of Resources) 2023
Spatial Reference:
102100
(3857)
Single Fused Map Cache: true
Tile Info:
- Height: 256
- Width: 256
- DPI: 96
-
Levels of Detail: 24
-
Level ID: 1
[ Start Tile, End Tile ]
- Resolution: 78271.5169639999
- Scale: 2.95828763795777E8
-
Level ID: 2
[ Start Tile, End Tile ]
- Resolution: 39135.7584820001
- Scale: 1.47914381897889E8
-
Level ID: 3
[ Start Tile, End Tile ]
- Resolution: 19567.8792409999
- Scale: 7.3957190948944E7
-
Level ID: 4
[ Start Tile, End Tile ]
- Resolution: 9783.93962049996
- Scale: 3.6978595474472E7
-
Level ID: 5
[ Start Tile, End Tile ]
- Resolution: 4891.96981024998
- Scale: 1.8489297737236E7
- Format: PNG32
- Compression Quality: 0.0
- Origin: X: -2.0037508342787E7
Y: 2.0037508342787E7
- Spatial Reference: 102100
(3857)
Storage Info:
- Storage Format: esriMapCacheStorageModeCompactV2
- Packet Size: 128
Initial Extent:
XMin: 1.6905141267833337E7
YMin: -3214610.408633824
XMax: 1.7048146594074138E7
YMax: -3097086.5930082877
Spatial Reference: 102100
Full Extent:
XMin: 1.5251328004057596E7
YMin: -3490862.564014393
XMax: 1.7102984855341084E7
YMax: -1021938.7684710902
Spatial Reference: 102100
Units: esriMeters
Supported Image Format Types: PNG32,PNG24,PNG,JPG,DIB,TIFF,EMF,PS,PDF,GIF,SVG,SVGZ,BMP
Document Info:
Title: WatercoursesAndBodiesCache
Author:
Comments: <DIV STYLE="text-align:Left;font-size:12pt"><P><SPAN>This service displays inland water features of interest to most Queensland Globe users. They are aimed at informing the user if a lake, reservoir, canal, watercourse, dam, rockpool or rockhole, waterhole, waterfall, flat, swamp or pondage area is present at their location of interest. The information display at relevant scale levels from the extent of Queensland through to land parcel level.</SPAN></P></DIV>
Subject: Inland watercourses and water bodies used in the Queensland Globe application.
Category:
Keywords: lake,reservoir,canal,watercourse,coastline
AntialiasingMode: Fast
TextAntialiasingMode: Force
Supports Dynamic Layers: true
MaxRecordCount: 2000
MaxImageHeight: 4320
MaxImageWidth: 7680
Supported Query Formats: JSON, geoJSON, PBF
Supports Query Data Elements: true
Min Scale: 4622324.434309
Max Scale: 4513.988705
Supports Datum Transformation: true
Child Resources:
Info
Dynamic Layer
Supported Operations:
Export Map
Identify
QueryLegends
QueryDomains
Find
Return Updates
Generate KML