View In:
ArcGIS JavaScript
ArcGIS Online Map Viewer
ArcGIS Earth
ArcGIS Pro
Service Description: The Imagery Label basemap is compiled from the Department of Natural Resources and Mines, Manufacturing and Regional and Rural Development foundation datasets which are maintained and updated periodically. The basemap also incorporates additional data where appropriate. The service uses a tiled map cache updated biannually in May and November and generated for the following scales:
- 1:564,
- 1:1128,
- 1:2257,
- 1:4514,
- 1:9028,
- 1:18,084,
- 1:36,112,
- 1:72,224,
- 1:144,448,
- 1:288,895,
- 1:577,791,
- 1:1,155,581,
- 1:2,311,162,
- 1:4,622,324,
- 1:9,244,649,
- 1:18,489,298, and
- 1:36,978,595.
The Queensland Government shall not be liable for technical or other errors or omissions. The user accepts all risks and responsibility for losses, damages, costs and other consequences resulting directly or indirectly from using this information.
While every effort is made to show official place names gazetted under the Place Names Act 1994, this basemap may contain non-gazetted place names.
The labelling on this basemap of any road or track is not evidence of Public Right of Way. Trails may not be open at time of visit, confirm locally prior to access. People using private roads do so at their own risk. Owners' permission should be obtained.
Nature Refuges are freehold land where the owner have entered into an agreement with the Queensland Government to commit to protect land with significant conservation value. Public access is not allowed, except with the permission of the owner.
Map Name: QldImageryLabel
Legend
All Layers and Tables
Layers:
Description: The Imagery Label basemap is compiled from the Department of Natural Resources and Mines, Manufacturing and Regional and Rural Development foundation datasets which are maintained and updated periodically. The basemap also incorporates additional data where appropriate. The service uses a tiled map cache updated biannually in May and November and generated for the following scales:
- 1:564,
- 1:1128,
- 1:2257,
- 1:4514,
- 1:9028,
- 1:18,084,
- 1:36,112,
- 1:72,224,
- 1:144,448,
- 1:288,895,
- 1:577,791,
- 1:1,155,581,
- 1:2,311,162,
- 1:4,622,324,
- 1:9,244,649,
- 1:18,489,298, and
- 1:36,978,595.
The Queensland Government shall not be liable for technical or other errors or omissions. The user accepts all risks and responsibility for losses, damages, costs and other consequences resulting directly or indirectly from using this information.
While every effort is made to show official place names gazetted under the Place Names Act 1994, this basemap may contain non-gazetted place names.
The labelling on this basemap of any road or track is not evidence of Public Right of Way. Trails may not be open at time of visit, confirm locally prior to access. People using private roads do so at their own risk. Owners' permission should be obtained.
Nature Refuges are freehold land where the owner have entered into an agreement with the Queensland Government to commit to protect land with significant conservation value. Public access is not allowed, except with the permission of the owner.
Service Item Id: a4756334b5a844dfaf4cddc59ff2d824
Copyright Text: © State of Queensland (Department of Natural Resources and Mines, Manufacturing and Regional and Rural Development) 2026
Spatial Reference:
102100
(3857)
LatestVCSWkid(0)
Single Fused Map Cache: true
Tile Info:
- Height: 256.0
- Width: 256.0
- DPI: 96.0
-
Levels of Detail: 24
-
Level ID: 1
[ Start Tile, End Tile ]
- Resolution: 78271.5169639999
- Scale: 2.95828763795777E8
-
Level ID: 2
[ Start Tile, End Tile ]
- Resolution: 39135.7584820001
- Scale: 1.47914381897889E8
-
Level ID: 3
[ Start Tile, End Tile ]
- Resolution: 19567.8792409999
- Scale: 7.3957190948944E7
-
Level ID: 4
[ Start Tile, End Tile ]
- Resolution: 9783.93962049996
- Scale: 3.6978595474472E7
-
Level ID: 5
[ Start Tile, End Tile ]
- Resolution: 4891.96981024998
- Scale: 1.8489297737236E7
- Format: PNG32
- Compression Quality: 0.0
- Origin: X: -2.0037508342787E7
Y: 2.0037508342787E7
- Spatial Reference: 102100
(3857)
LatestVCSWkid(0)
Storage Info:
- Storage Format: esriMapCacheStorageModeCompactV2
- Packet Size: 128
Initial Extent:
XMin: 1.5374726375017812E7
YMin: -3029786.2391854813
XMax: 1.768681359217632E7
YMax: -1519399.7620761907
Spatial Reference: 102100
(3857)
LatestVCSWkid(0)
Full Extent:
XMin: 1.525077023867848E7
YMin: -3439440.0607312643
XMax: 1.8145076999303594E7
YMax: -1006021.0627551368
Spatial Reference: 102100
(3857)
LatestVCSWkid(0)
Units: esriMeters
Supported Image Format Types: PNG32,PNG24,PNG,JPG,DIB,TIFF,EMF,PS,PDF,GIF,SVG,SVGZ,BMP
Document Info:
Title: QldImageryLabel
Author:
Comments: The QldImageryLabel service is based on the Department of Natural Resources, Mines and Energy foundation datasets which are maintained and updated periodically. The basemap also incorporates additional data where appropriate. The service uses a tiled map cache updated biannually in May and November and generated for the following scales: 1:564, 1:1128, 1:2257, 1:4514, 1:9028, 1:18,084, 1:36,112, 1:72,224, 1:144,448, 1:288,895, 1:577,791, 1:1,155,581, 1:2,311,162, 1:4,622,324, 1:9,244,649, 1:18,489,298 and 1:36,978,595.
Subject: State wide cached basemap refreshed biannually in May and November.
Category:
Keywords: QldImageryLabel,basemap,map base
AntialiasingMode: None
TextAntialiasingMode: Force
Supports Dynamic Layers: false
MaxRecordCount: 2000
MaxSelectionCount: 2000
MaxImageHeight: 4320
MaxImageWidth: 7680
Supported Query Formats: JSON, geoJSON, PBF
Supports Query Data Elements: true
Min Scale: 3.6978595474472E7
Max Scale: 1128.497176
Supports Datum Transformation: true
Child Resources:
Info
Supported Operations:
Export Map
QueryLegends
Return Updates
Generate KML