{
 "currentVersion": 11.3,
 "cimVersion": "3.3.0",
 "serviceDescription": "**USER NOTICE**: This resource is now deprecated and will be decommissioned on 30 June 2025, after which this service will no longer be available at this address. A replacement service is now available and ready to use at the following location: https://spatial.information.qld.gov.au/arcgis/rest/services/Hosted/InlandWaters_WaterCoursesAndBodies/VectorTileServer. Please ensure that all of your usage of this service has been migrated to the new address and tested successfully prior to this date. If there are any issues or concerns, please contact opendata@resources.qld.gov.au. This service displays inland water features of interest to most Queensland Globe users. They are aimed at informing the user if a lake, reservoir, canal, watercourse, dam, rockpool or rockhole, waterhole, waterfall, flat, swamp or pondage area is present at their location of interest. The information display at relevant scale levels from the extent of Queensland through to land parcel level.",
 "mapName": "WatercoursesAndBodiesCache",
 "description": "**USER NOTICE**: This resource is now deprecated and will be decommissioned on 30 June 2025, after which this service will no longer be available at this address. A replacement service is now available and ready to use at the following location: https://spatial.information.qld.gov.au/arcgis/rest/services/Hosted/InlandWaters_WaterCoursesAndBodies/VectorTileServer. Please ensure that all of your usage of this service has been migrated to the new address and tested successfully prior to this date. If there are any issues or concerns, please contact opendata@resources.qld.gov.au. This service displays inland water features of interest to most Queensland Globe users. They are aimed at informing the user if a lake, reservoir, canal, watercourse, dam, rockpool or rockhole, waterhole, waterfall, flat, swamp or pondage area is present at their location of interest. The information display at relevant scale levels from the extent of Queensland through to land parcel level.",
 "copyrightText": "© State of Queensland (Department of Natural Resources and Mines, Manufacturing and Regional and Rural Development) 2024",
 "supportsDynamicLayers": true,
 "layers": [
  {
   "id": 0,
   "name": "Coastline",
   "parentLayerId": -1,
   "defaultVisibility": true,
   "subLayerIds": null,
   "minScale": 13000000,
   "maxScale": 3000,
   "type": "Feature Layer",
   "geometryType": "esriGeometryPolyline",
   "supportsDynamicLegends": true
  },
  {
   "id": 1,
   "name": "Lake",
   "parentLayerId": -1,
   "defaultVisibility": true,
   "subLayerIds": null,
   "minScale": 13000000,
   "maxScale": 3000,
   "type": "Feature Layer",
   "geometryType": "esriGeometryPolygon",
   "supportsDynamicLegends": true
  },
  {
   "id": 2,
   "name": "Reservoir",
   "parentLayerId": -1,
   "defaultVisibility": true,
   "subLayerIds": null,
   "minScale": 13000000,
   "maxScale": 3000,
   "type": "Feature Layer",
   "geometryType": "esriGeometryPolygon",
   "supportsDynamicLegends": true
  },
  {
   "id": 3,
   "name": "Canal",
   "parentLayerId": -1,
   "defaultVisibility": true,
   "subLayerIds": [
    4,
    5
   ],
   "minScale": 0,
   "maxScale": 0,
   "type": "Group Layer",
   "supportsDynamicLegends": false
  },
  {
   "id": 4,
   "name": "Canal line",
   "parentLayerId": 3,
   "defaultVisibility": true,
   "subLayerIds": null,
   "minScale": 13000000,
   "maxScale": 3000,
   "type": "Feature Layer",
   "geometryType": "esriGeometryPolyline",
   "supportsDynamicLegends": true
  },
  {
   "id": 5,
   "name": "Canal area",
   "parentLayerId": 3,
   "defaultVisibility": true,
   "subLayerIds": null,
   "minScale": 13000000,
   "maxScale": 3000,
   "type": "Feature Layer",
   "geometryType": "esriGeometryPolygon",
   "supportsDynamicLegends": true
  },
  {
   "id": 6,
   "name": "Watercourse",
   "parentLayerId": -1,
   "defaultVisibility": true,
   "subLayerIds": [
    7,
    8
   ],
   "minScale": 0,
   "maxScale": 0,
   "type": "Group Layer",
   "supportsDynamicLegends": false
  },
  {
   "id": 7,
   "name": "Watercourse line",
   "parentLayerId": 6,
   "defaultVisibility": true,
   "subLayerIds": null,
   "minScale": 13000000,
   "maxScale": 3000,
   "type": "Feature Layer",
   "geometryType": "esriGeometryPolyline",
   "supportsDynamicLegends": true
  },
  {
   "id": 8,
   "name": "Watercourse area",
   "parentLayerId": 6,
   "defaultVisibility": true,
   "subLayerIds": null,
   "minScale": 13000000,
   "maxScale": 3000,
   "type": "Feature Layer",
   "geometryType": "esriGeometryPolygon",
   "supportsDynamicLegends": true
  },
  {
   "id": 9,
   "name": "Water area edge",
   "parentLayerId": -1,
   "defaultVisibility": true,
   "subLayerIds": null,
   "minScale": 13000000,
   "maxScale": 3000,
   "type": "Feature Layer",
   "geometryType": "esriGeometryPolyline",
   "supportsDynamicLegends": true
  }
 ],
 "tables": [],
 "spatialReference": {
  "wkid": 102100,
  "latestWkid": 3857,
  "xyTolerance": 0.001,
  "zTolerance": 0.001,
  "mTolerance": 0.001,
  "falseX": -20037700,
  "falseY": -30241100,
  "xyUnits": 10000,
  "falseZ": -100000,
  "zUnits": 10000,
  "falseM": -100000,
  "mUnits": 10000
 },
 "singleFusedMapCache": true,
 "tileInfo": {
  "rows": 256,
  "cols": 256,
  "dpi": 96,
  "format": "PNG32",
  "compressionQuality": 0,
  "origin": {
   "x": -2.0037508342787E7,
   "y": 2.0037508342787E7
  },
  "spatialReference": {
   "wkid": 102100,
   "latestWkid": 3857,
   "xyTolerance": 0.001,
   "zTolerance": 0.001,
   "mTolerance": 0.001,
   "falseX": -20037700,
   "falseY": -30241100,
   "xyUnits": 1.4892314192838538E8,
   "falseZ": -100000,
   "zUnits": 10000,
   "falseM": -100000,
   "mUnits": 10000
  },
  "lods": [
   {
    "level": 0,
    "resolution": 156543.033928,
    "scale": 5.91657527591555E8
   },
   {
    "level": 1,
    "resolution": 78271.5169639999,
    "scale": 2.95828763795777E8
   },
   {
    "level": 2,
    "resolution": 39135.7584820001,
    "scale": 1.47914381897889E8
   },
   {
    "level": 3,
    "resolution": 19567.8792409999,
    "scale": 7.3957190948944E7
   },
   {
    "level": 4,
    "resolution": 9783.93962049996,
    "scale": 3.6978595474472E7
   },
   {
    "level": 5,
    "resolution": 4891.96981024998,
    "scale": 1.8489297737236E7
   },
   {
    "level": 6,
    "resolution": 2445.98490512499,
    "scale": 9244648.868618
   },
   {
    "level": 7,
    "resolution": 1222.99245256249,
    "scale": 4622324.434309
   },
   {
    "level": 8,
    "resolution": 611.49622628138,
    "scale": 2311162.217155
   },
   {
    "level": 9,
    "resolution": 305.748113140558,
    "scale": 1155581.108577
   },
   {
    "level": 10,
    "resolution": 152.874056570411,
    "scale": 577790.554289
   },
   {
    "level": 11,
    "resolution": 76.4370282850732,
    "scale": 288895.277144
   },
   {
    "level": 12,
    "resolution": 38.2185141425366,
    "scale": 144447.638572
   },
   {
    "level": 13,
    "resolution": 19.1092570712683,
    "scale": 72223.819286
   },
   {
    "level": 14,
    "resolution": 9.55462853563415,
    "scale": 36111.909643
   },
   {
    "level": 15,
    "resolution": 4.77731426794937,
    "scale": 18055.954822
   },
   {
    "level": 16,
    "resolution": 2.38865713397468,
    "scale": 9027.977411
   },
   {
    "level": 17,
    "resolution": 1.19432856685505,
    "scale": 4513.988705
   },
   {
    "level": 18,
    "resolution": 0.597164283559817,
    "scale": 2256.994353
   },
   {
    "level": 19,
    "resolution": 0.298582141647617,
    "scale": 1128.497176
   },
   {
    "level": 20,
    "resolution": 0.14929107082380833,
    "scale": 564.248588
   },
   {
    "level": 21,
    "resolution": 0.07464553541190416,
    "scale": 282.124294
   },
   {
    "level": 22,
    "resolution": 0.03732276770595208,
    "scale": 141.062147
   },
   {
    "level": 23,
    "resolution": 0.01866138385297604,
    "scale": 70.5310735
   }
  ]
 },
 "storageInfo": {
  "storageFormat": "esriMapCacheStorageModeCompactV2",
  "packetSize": 128
 },
 "initialExtent": {
  "xmin": 1.6905141267833337E7,
  "ymin": -3214610.408633824,
  "xmax": 1.7048146594074138E7,
  "ymax": -3097086.5930082877,
  "spatialReference": {
   "cs": "pcs",
   "wkid": 102100
  }
 },
 "fullExtent": {
  "xmin": 1.5251328004057596E7,
  "ymin": -3490862.564014393,
  "xmax": 1.7102984855341084E7,
  "ymax": -1021938.7684710902,
  "spatialReference": {
   "cs": "pcs",
   "wkid": 102100
  }
 },
 "datesInUnknownTimezone": false,
 "minScale": 4622324.434309,
 "maxScale": 4513.988705,
 "units": "esriMeters",
 "supportedImageFormatTypes": "PNG32,PNG24,PNG,JPG,DIB,TIFF,EMF,PS,PDF,GIF,SVG,SVGZ,BMP",
 "documentInfo": {
  "Title": "WatercoursesAndBodiesCache",
  "Author": "",
  "Comments": "This service displays inland water features of interest to most Queensland Globe users. They are aimed at informing the user if a lake, reservoir, canal, watercourse, dam, rockpool or rockhole, waterhole, waterfall, flat, swamp or pondage area is present at their location of interest. The information display at relevant scale levels from the extent of Queensland through to land parcel level.This service provides access to the following spatial datasets:\nCoastline (NAT.Framework/NAT.FrameworkBoundaries)\nLake (NAT.Waterbodies/NAT.Lakes)\nReservoir (NAT.Waterbodies/NAT.Reservoirs)\nCanal\\Canal line (NAT.Drainage/NAT.CanalLines)\nCanal\\Canal area (NAT.Waterbodies/NAT.CanalAreas)\nWatercourse\\Watercourse line (NAT.Drainage/NAT.WatercourseLines)\nWatercourse\\Watercourse area (NAT.Waterbodies/NAT.WatercourseAreas)\nWater area edge (misc.qtp_water_bdy)",
  "Subject": "Inland watercourses and water bodies used in the Queensland Globe application.",
  "Category": "",
  "Version": "2.9.0",
  "AntialiasingMode": "Fast",
  "TextAntialiasingMode": "Force",
  "Keywords": "lake,reservoir,canal,watercourse,coastline"
 },
 "supportsQueryDomains": true,
 "capabilities": "Map,Query,Data",
 "supportedQueryFormats": "JSON, geoJSON, PBF",
 "exportTilesAllowed": false,
 "referenceScale": 0.0,
 "datumTransformations": [
  {
   "geoTransforms": [
    {
     "wkid": 15979,
     "latestWkid": 15979,
     "transformForward": false,
     "name": "AGD_1966_To_GDA_1994_12"
    },
    {
     "wkid": 15980,
     "latestWkid": 15980,
     "transformForward": true,
     "name": "AGD_1966_To_WGS_1984_18"
    }
   ]
  },
  {
   "geoTransforms": [
    {
     "wkid": 15980,
     "latestWkid": 15980,
     "transformForward": false,
     "name": "AGD_1966_To_WGS_1984_18"
    },
    {
     "wkid": 15979,
     "latestWkid": 15979,
     "transformForward": true,
     "name": "AGD_1966_To_GDA_1994_12"
    }
   ]
  }
 ],
 "supportsDatumTransformation": true,
 "archivingInfo": {"supportsHistoricMoment": false},
 "supportsClipping": true,
 "supportsSpatialFilter": true,
 "supportsTimeRelation": true,
 "supportsQueryDataElements": true,
 "mapUnits": {"uwkid": 9001},
 "maxRecordCount": 2000,
 "maxImageHeight": 4320,
 "maxImageWidth": 7680,
 "supportedExtensions": "KmlServer, WMSServer",
 "serviceItemId": "23430966aedc430abfdd6f1850044408"
}